BEGIN:VCALENDAR
VERSION:2.0
PRODID:-//taunus4family - ECPv5.14.1//NONSGML v1.0//EN
CALSCALE:GREGORIAN
METHOD:PUBLISH
X-WR-CALNAME:taunus4family
X-ORIGINAL-URL:https://www.taunus4family.de
X-WR-CALDESC:Veranstaltungen für taunus4family
BEGIN:VTIMEZONE
TZID:Europe/Helsinki
BEGIN:DAYLIGHT
TZOFFSETFROM:+0200
TZOFFSETTO:+0300
TZNAME:EEST
DTSTART:20240331T010000
END:DAYLIGHT
BEGIN:STANDARD
TZOFFSETFROM:+0300
TZOFFSETTO:+0200
TZNAME:EET
DTSTART:20241027T010000
END:STANDARD
END:VTIMEZONE
BEGIN:VEVENT
DTSTART;TZID=Europe/Helsinki:20240316T140000
DTEND;TZID=Europe/Helsinki:20240316T160000
DTSTAMP:20260420T002406
CREATED:20240114T085056Z
LAST-MODIFIED:20240114T085056Z
UID:46965-1710597600-1710604800@www.taunus4family.de
SUMMARY:Sortierter Flohmarkt der Kita Pusteblume Kronberg
DESCRIPTION:Sortierter Kinderkleider-Flohmarkt für Schwangerschaftsmode\, Babybedarf\, Kinderkleidung von ganz klein bis groß (Größen 50 – 140)\, Spielsachen\, Alles was Räder hat\, Schuhe\, Medien und vieles mehr \nEinlass für Schwangere ab 13:00 Uhr. \nKuchenbar mit selbstgebackenem Kuchen zum Mitnehmen. \nAnmeldung und Nummernvergabe für Verkäufer*innen über www.basarlino.de/4832
URL:https://www.taunus4family.de/veranstaltung/sortierter-flohmarkt-der-kita-pusteblume-kronberg-2/
LOCATION:Stadthalle Kronberg im Taunus\, Berliner Platz\, Heinrich-Winter-Straße 1\, Kronberg im Taunus\, 61476
CATEGORIES:Basare und Flohmärkte
ATTACH;FMTTYPE=image/png:https://www.taunus4family.de/wp-content/uploads/2024/01/2024-03-16-Flohmarkt-Pusteblume-Kronberg_web-e1705222243764.png
ORGANIZER;CN="F%26ouml%3Brderverein%20der%20Kita%20Pusteblume":MAILTO:pusteblume-flohmarkt@gmx.de
GEO:50.17831;8.51145
X-APPLE-STRUCTURED-LOCATION;VALUE=URI;X-ADDRESS=Stadthalle Kronberg im Taunus Berliner Platz Heinrich-Winter-Straße 1 Kronberg im Taunus 61476;X-APPLE-RADIUS=500;X-TITLE=Berliner Platz\, Heinrich-Winter-Straße 1:geo:8.51145,50.17831
END:VEVENT
END:VCALENDAR