BEGIN:VCALENDAR
VERSION:2.0
PRODID:-//taunus4family - ECPv5.14.1//NONSGML v1.0//EN
CALSCALE:GREGORIAN
METHOD:PUBLISH
X-WR-CALNAME:taunus4family
X-ORIGINAL-URL:https://www.taunus4family.de
X-WR-CALDESC:Veranstaltungen für taunus4family
BEGIN:VTIMEZONE
TZID:Europe/Helsinki
BEGIN:DAYLIGHT
TZOFFSETFROM:+0200
TZOFFSETTO:+0300
TZNAME:EEST
DTSTART:20250330T010000
END:DAYLIGHT
BEGIN:STANDARD
TZOFFSETFROM:+0300
TZOFFSETTO:+0200
TZNAME:EET
DTSTART:20251026T010000
END:STANDARD
END:VTIMEZONE
BEGIN:VEVENT
DTSTART;TZID=Europe/Helsinki:20250920T100000
DTEND;TZID=Europe/Helsinki:20250920T123000
DTSTAMP:20260422T044614
CREATED:20250311T054816Z
LAST-MODIFIED:20250311T054816Z
UID:50485-1758362400-1758371400@www.taunus4family.de
SUMMARY:St. Peter und Paul Kindersachen- und Spielzeugbasar
DESCRIPTION:Bei unserem Kindersachen- und Spielzeugbasar findet ihr eine große Auswahl gut erhaltener\, modischer Kleidung\, Schlafsäcke\, Schuhe\, Spielsachen\, Bücher und Medien\, Kinderfahrzeuge\, Babyausstattung und -Zubehör\, und vieles mehr. \nEinlass für Schwangere mit MuPa und eine Begleitperson bereits ab 9:30 Uhr \nGroßes Kuchenbuffet\, auch zum Mitnehmen \nAnmeldung als Verkäufer ab Mitte März unter https://basarlino.de/CU05.
URL:https://www.taunus4family.de/veranstaltung/st-peter-und-paul-kindersachen-und-spielzeugbasar/
LOCATION:Kath. Gemeindezentrum St. Peter und Paul\, Pfarrgasse 2a\, Hofheim am Taunus\, 65719
CATEGORIES:Basare und Flohmärkte
ATTACH;FMTTYPE=image/jpeg:https://www.taunus4family.de/wp-content/uploads/2025/03/Herbstbasar_St.-PuP_2509-e1741672051896.jpeg
ORGANIZER;CN="F%26ouml%3Brderverein%20der%20Kita%20St.%20Peter%20und%20Paul%20Hofheim":MAILTO:hallo@foerderverein-kita-peterundpaul.de
END:VEVENT
END:VCALENDAR