BEGIN:VCALENDAR
VERSION:2.0
PRODID:-//taunus4family - ECPv5.14.1//NONSGML v1.0//EN
CALSCALE:GREGORIAN
METHOD:PUBLISH
X-WR-CALNAME:taunus4family
X-ORIGINAL-URL:https://www.taunus4family.de
X-WR-CALDESC:Veranstaltungen für taunus4family
BEGIN:VTIMEZONE
TZID:Europe/Helsinki
BEGIN:DAYLIGHT
TZOFFSETFROM:+0200
TZOFFSETTO:+0300
TZNAME:EEST
DTSTART:20240331T010000
END:DAYLIGHT
BEGIN:STANDARD
TZOFFSETFROM:+0300
TZOFFSETTO:+0200
TZNAME:EET
DTSTART:20241027T010000
END:STANDARD
END:VTIMEZONE
BEGIN:VEVENT
DTSTART;TZID=Europe/Helsinki:20240804T100000
DTEND;TZID=Europe/Helsinki:20240804T180000
DTSTAMP:20260424T224032
CREATED:20240727T141530Z
LAST-MODIFIED:20240727T141530Z
UID:48799-1722765600-1722794400@www.taunus4family.de
SUMMARY:Steinauer Märchensonntag
DESCRIPTION:An jedem ersten Sonntag im August verwandelt sich die Brüder-Grimm-Stadt in ein großes Märchenland. An diesem Sonntag werden ‚Die zwei Brüder‘ in Szene gesetzt und sehen im Mittelpunkt des bunten Straßenfestes für die ganze Familie. \nGroßes Märchenfest für die ganze Familie\nEs ist nicht nur das längste der Grimm’schen Märchen\, es ist auch das einzige\, in dem mit einem Drachen gekämpft wird\, daher werden den Besuchern Drachen und Schwerter auf allen Plätzen und in allen Winkeln begegnen: eine Drachenhüpfburg\, eine akrobatische Drachenjungfrau\, Drachenfrauen auf Stelzen und die Stadt der Drachen im Figurentheater „Jim Knopf und Lukas der Lokomotivführer“\, dazu das Ritterturnier für Kinder im Schlosshof. „Die zwei Brüder“ erscheinen als Ballettaufführung und als Freilichttheater\, das Märchen wird von Märchenerzählern im Brüder Grimm-Haus und im Hirschgraben vorgetragen. Der Schauspieler Kurt Spielmann wirft als „Lehrer Bembel“ einen eigenwilligen Blick auf das Märchengeschehen. Straßenmusik\, Gaukelei\, Bastelangebote\, Kinderschminken und Bogenschießen\, Luftballonzaubereien\, Kunsthandwerkerstände und ein vielfältiges kulinarisches Angebot werden den Tag außerdem bereichern. \nDas märchenhafte Treiben beginnt um 10 Uhr mit einem märchenhaften Gottesdienst und endet um 18 Uhr auf dem Marktplatz „Am Kumpen“. Festbetrieb ist in der gesamten Steinauer Innenstadt inklusive Schloss und Brüder Grimm-Haus. \nKinder und Erwachsene können aber auch auf andere Weise tief in die Welt der Grimm’schen Märchen eintauchen – mit Musik\, Theater\, Gauklern und vielfältigen Mitmachangeboten.
URL:https://www.taunus4family.de/veranstaltung/steinauer-maerchensonntag/
LOCATION:Steinau an der Straße\, Brüder-Grimm-Straße 47\, Steinau an der Strasse\, 36396\, Deutschland
CATEGORIES:Freizeit,Kunst und Kultur
ATTACH;FMTTYPE=image/jpeg:https://www.taunus4family.de/wp-content/uploads/2024/07/Screenshot-2024-07-27-160121.jpg
ORGANIZER;CN="Steinau%20an%20der%20Stra%C3%9Fe":MAILTO:verkehrsbuero@steinau.de
GEO:50.3127318;9.4616529
X-APPLE-STRUCTURED-LOCATION;VALUE=URI;X-ADDRESS=Steinau an der Straße Brüder-Grimm-Straße 47 Steinau an der Strasse 36396 Deutschland;X-APPLE-RADIUS=500;X-TITLE=Brüder-Grimm-Straße 47:geo:9.4616529,50.3127318
END:VEVENT
END:VCALENDAR