BEGIN:VCALENDAR
VERSION:2.0
PRODID:-//taunus4family - ECPv5.14.1//NONSGML v1.0//EN
CALSCALE:GREGORIAN
METHOD:PUBLISH
X-WR-CALNAME:taunus4family
X-ORIGINAL-URL:https://www.taunus4family.de
X-WR-CALDESC:Veranstaltungen für taunus4family
BEGIN:VTIMEZONE
TZID:Europe/Helsinki
BEGIN:DAYLIGHT
TZOFFSETFROM:+0200
TZOFFSETTO:+0300
TZNAME:EEST
DTSTART:20250330T010000
END:DAYLIGHT
BEGIN:STANDARD
TZOFFSETFROM:+0300
TZOFFSETTO:+0200
TZNAME:EET
DTSTART:20251026T010000
END:STANDARD
END:VTIMEZONE
BEGIN:VEVENT
DTSTART;TZID=Europe/Helsinki:20250404T090000
DTEND;TZID=Europe/Helsinki:20250404T120000
DTSTAMP:20260424T162129
CREATED:20250401T070930Z
LAST-MODIFIED:20250401T070948Z
UID:50793-1743757200-1743768000@www.taunus4family.de
SUMMARY:Tag der Ausbildung im Hochtaunuskreis 2025
DESCRIPTION:Auch 2025 lädt das Landratsamt in Bad Homburg wieder zum „Tag der Ausbildung“ ein! Am 4. April von 09:00 bis 12:00 Uhr haben Schülerinnen und Schüler sowie deren Eltern die Gelegenheit\, direkt mit ausbildenden Betrieben in Kontakt zu treten. Die Messe bietet umfassende Informationen zu Praktika\, Ausbildungsberufen und dualen Studiengängen. \nAn den Ständen der teilnehmenden Unternehmen und Institutionen können Besucherinnen und Besucher verschiedene Berufe praktisch erleben\, wertvolle Bewerbungstipps erhalten und sich über Unterstützungsangebote informieren. Zudem gibt es die Möglichkeit\, kostenlose Bewerbungsfotos vor Ort machen zu lassen – und vielleicht sogar den passenden Ausbildungsplatz oder Traumberuf zu finden! \nDie Veranstaltung richtet sich an Schülerinnen und Schüler der Abschluss- und Vorabgangsklassen von Haupt- und Realschulen sowie aller weiterführenden Schulen. Die Erfahrung zeigt: Der Besuch in Begleitung eines Elternteils oder einer erziehungsberechtigten Person ist besonders hilfreich. \nNeu in diesem Jahr: Im Elterncafé können sich Eltern und Erziehungsberechtigte mit erfahrenen Berufsberaterinnen und -beratern austauschen und zusätzliche Informationen erhalten. Bei Bedarf wird mehrsprachige Unterstützung angeboten.
URL:https://www.taunus4family.de/veranstaltung/tag-der-ausbildung-im-hochtaunuskreis-2025/
LOCATION:Landratsamt des Hochtaunuskreises\, Ludwig-Erhard-Anlage 1-5 (Innenhof)\, Bad Homburg\, 61352\, Deutschland
CATEGORIES:Weiterbildung und Information
ATTACH;FMTTYPE=image/jpeg:https://www.taunus4family.de/wp-content/uploads/2025/04/iStock-Drazen-Zigic.jpg
ORGANIZER;CN="involas%20Institut%20f%C3%BCr%20berufliche%20Bildung%2C%20Arbeitsmarkt-%20und%20Sozialpolitik%20GmbH":MAILTO:info@involas.com
END:VEVENT
END:VCALENDAR