BEGIN:VCALENDAR
VERSION:2.0
PRODID:-//taunus4family - ECPv5.14.1//NONSGML v1.0//EN
CALSCALE:GREGORIAN
METHOD:PUBLISH
X-WR-CALNAME:taunus4family
X-ORIGINAL-URL:https://www.taunus4family.de
X-WR-CALDESC:Veranstaltungen für taunus4family
BEGIN:VTIMEZONE
TZID:Europe/Helsinki
BEGIN:DAYLIGHT
TZOFFSETFROM:+0200
TZOFFSETTO:+0300
TZNAME:EEST
DTSTART:20250330T010000
END:DAYLIGHT
BEGIN:STANDARD
TZOFFSETFROM:+0300
TZOFFSETTO:+0200
TZNAME:EET
DTSTART:20251026T010000
END:STANDARD
END:VTIMEZONE
BEGIN:VEVENT
DTSTART;TZID=Europe/Helsinki:20250118T150000
DTEND;TZID=Europe/Helsinki:20250118T170000
DTSTAMP:20260424T141620
CREATED:20241205T172935Z
LAST-MODIFIED:20241205T173430Z
UID:49762-1737212400-1737219600@www.taunus4family.de
SUMMARY:'Tarzan' - Das Musical
DESCRIPTION:Familienmusical entführt in die Welt des Dschungels \nErlebt mit dem Theater Liberi in der Stadthalle in Idstein ein atemberaubendes Dschungel-Abenteuer mit dem Titelhelden – Tarzan – in der Hauptrolle. \nIn dieser modernen Inszenierung präsentiert Theater Liberi die hundert Jahre alte Geschichte von Edgar Rice Burroughs für die gesamte Familie. Mit spektakulären Eigenkompositionen\, fesselnder Spannung und einem Hauch von Romantik verspricht dieses Musical ein unterhaltsames Live-Erlebnis. \nInhalt: Die Begegnung zweier Welten steht im Mittelpunkt der Geschichte. Eine junge Familie erleidet Schiffbruch\, wird von wilden Tieren angegriffen und zurückbleibt ein kleiner Junge. Dieser Junge wird von der Affendame Kala aufgenommen und großgezogen. Tarzan findet bei den Affen ein Zuhause und in dem Affenmädchen Tee eine gute Freundin. Aber obwohl Tarzan in der Affenfamilie eine Heimat gefunden hat\, spürt er immer wieder\, dass er nicht wirklich dazugehört\, vor allem durch die Zurückweisung von Anführer Kerchak. Sein Bedürfnis\, seinen Platz in der Welt zu finden\, wird noch stärker\, als er zum ersten Mal auf Menschen trifft – Professor Porter\, dessen neugierige Tochter Jane und die zwielichtige Olivia Clayton auf einer Expedition im Dschungel. Tarzan und Jane kommen sich näher\, doch dann geraten die Ereignisse außer Kontrolle\, und Tarzan und seine Affenfamilie schweben in großer Gefahr. \nDie moderne Musicaladaption des Theater Liberi konzentriert sich auf Tarzans Zerrissenheit zwischen der Welt der Affen und der Menschen. Für den Hauptdarsteller Marlon Hangmann ist dies ein entscheidender Aspekt: Tarzan ist nicht nur der strahlende Held\, sondern er hat auch Zweifel und benötigt die Hilfe seiner Freunde\, um seinen Weg zu finden. \n  \nInformationen und Tickets \nDas Musical dauert zwei Stunden inklusive 20 Minuten Pause und ist geeignet für Zuschauer ab vier Jahren. Die Tickets kosten 29\,- / 26\,- / 23\,- Euro je nach Kategorie\, Kinder bis 14 Jahre erhalten eine Ermäßigung in Höhe von 2\,- Euro. Erhältlich sind die Tickets online unter www.theater-liberi.de und bei ausgewählten Vorverkaufsstellen. \n  \n 
URL:https://www.taunus4family.de/veranstaltung/tarzan-das-musical-3/
LOCATION:Stadthalle Idstein\, Löherplatz 15\, Idstein\, 65510\, Deutschland
CATEGORIES:Theater und Bühnen
ATTACH;FMTTYPE=image/jpeg:https://www.taunus4family.de/wp-content/uploads/2023/10/Tarzan-das-Musical_Pressebild-01_quer234-002.jpg
ORGANIZER;CN="Theater%20Liberi":MAILTO:info@theater-liberi.de
GEO:50.2201908;8.2699412
X-APPLE-STRUCTURED-LOCATION;VALUE=URI;X-ADDRESS=Stadthalle Idstein Löherplatz 15 Idstein 65510 Deutschland;X-APPLE-RADIUS=500;X-TITLE=Löherplatz 15:geo:8.2699412,50.2201908
END:VEVENT
END:VCALENDAR