BEGIN:VCALENDAR
VERSION:2.0
PRODID:-//taunus4family - ECPv5.14.1//NONSGML v1.0//EN
CALSCALE:GREGORIAN
METHOD:PUBLISH
X-WR-CALNAME:taunus4family
X-ORIGINAL-URL:https://www.taunus4family.de
X-WR-CALDESC:Veranstaltungen für taunus4family
BEGIN:VTIMEZONE
TZID:Europe/Helsinki
BEGIN:DAYLIGHT
TZOFFSETFROM:+0200
TZOFFSETTO:+0300
TZNAME:EEST
DTSTART:20250330T010000
END:DAYLIGHT
BEGIN:STANDARD
TZOFFSETFROM:+0300
TZOFFSETTO:+0200
TZNAME:EET
DTSTART:20251026T010000
END:STANDARD
END:VTIMEZONE
BEGIN:VEVENT
DTSTART;VALUE=DATE:20251005
DTEND;VALUE=DATE:20251006
DTSTAMP:20260422T075951
CREATED:20250929T153201Z
LAST-MODIFIED:20250929T153402Z
UID:52208-1759622400-1759708799@www.taunus4family.de
SUMMARY:Traditioneller Erntedankmarkt in Wehrheim 2025
DESCRIPTION:Die Landjugend Wehrheim lädt erneut zum beliebten Bauern- und Handwerkermarkt in der Wehrheimer Mitte ein. \nBesucherinnen und Besucher können sich auf spannende Vorführungen traditioneller Handwerkskünste und auf lebendige Einblicke in die heimische Landwirtschaft freuen. Gaukler und Musikanten sorgen mit Spiel\, Spaß und Narretei für gute Stimmung\, während die Landjugend selbst Volkstänze präsentiert. Für Kinder gibt es ein Karussell und abwechslungsreiche Mitmachangebote. Zünftige Speisen\, erfrischende Getränke und hausgemachter Kuchen runden das Fest ab und machen den Markt zu einem Erlebnis für die ganze Familie. \nEintritt frei.
URL:https://www.taunus4family.de/veranstaltung/traditioneller-erntedankmarkt-in-wehrheim-2025/
LOCATION:Wehrheimer Mitte\, Wehrheim\, 61273\, Deutschland
CATEGORIES:Feste und Märkte
ATTACH;FMTTYPE=image/jpeg:https://www.taunus4family.de/wp-content/uploads/2019/07/iStock-Christina-Christ.jpg
ORGANIZER;CN="Landjugend%20Wehrheim":MAILTO:info@landjugend-wehrheim.de
END:VEVENT
END:VCALENDAR