BEGIN:VCALENDAR
VERSION:2.0
PRODID:-//taunus4family - ECPv5.14.1//NONSGML v1.0//EN
CALSCALE:GREGORIAN
METHOD:PUBLISH
X-WR-CALNAME:taunus4family
X-ORIGINAL-URL:https://www.taunus4family.de
X-WR-CALDESC:Veranstaltungen für taunus4family
BEGIN:VTIMEZONE
TZID:Europe/Helsinki
BEGIN:DAYLIGHT
TZOFFSETFROM:+0200
TZOFFSETTO:+0300
TZNAME:EEST
DTSTART:20240331T010000
END:DAYLIGHT
BEGIN:STANDARD
TZOFFSETFROM:+0300
TZOFFSETTO:+0200
TZNAME:EET
DTSTART:20241027T010000
END:STANDARD
END:VTIMEZONE
BEGIN:VEVENT
DTSTART;TZID=Europe/Helsinki:20240831T100000
DTEND;TZID=Europe/Helsinki:20240831T130000
DTSTAMP:20260423T211210
CREATED:20240830T073923Z
LAST-MODIFIED:20240830T073923Z
UID:49009-1725098400-1725109200@www.taunus4family.de
SUMMARY:Villawald Oberursel Flohmarkt "Rund ums Kind!
DESCRIPTION:Im VillaWald Garten (zum Hainmüller/Landwehrweg) erwarten euch nicht nur viele Verkaufsstände\, sondern auch Kaffee/Kuchen und unsere liebevoll handgefertigten Accessoires und Geschenkideen.\nBitte beachtet die Parkhinweise auf der Homepage oder kommt gleich mit Fahrrad oder zu Fuß. Das Wetter soll ja passen.
URL:https://www.taunus4family.de/veranstaltung/villawald-oberursel-flohmarkt-rund-ums-kind/
LOCATION:VillaWald Oberursel\, zum Hainmüller/Landwehrweg !Parkhinweise beachten!\, Oberusel - Oberstedten\, 61440
CATEGORIES:Basare und Flohmärkte
ATTACH;FMTTYPE=image/jpeg:https://www.taunus4family.de/wp-content/uploads/2024/08/Flyer-Handmade.jpg
ORGANIZER;CN="VillaWald%20Oberursel":MAILTO:info@villawald-oberursel.de
GEO:50.2299949;8.5695476
X-APPLE-STRUCTURED-LOCATION;VALUE=URI;X-ADDRESS=VillaWald Oberursel zum Hainmüller/Landwehrweg !Parkhinweise beachten! Oberusel - Oberstedten 61440;X-APPLE-RADIUS=500;X-TITLE=zum Hainmüller/Landwehrweg !Parkhinweise beachten!:geo:8.5695476,50.2299949
END:VEVENT
END:VCALENDAR