BEGIN:VCALENDAR
VERSION:2.0
PRODID:-//taunus4family - ECPv5.14.1//NONSGML v1.0//EN
CALSCALE:GREGORIAN
METHOD:PUBLISH
X-WR-CALNAME:taunus4family
X-ORIGINAL-URL:https://www.taunus4family.de
X-WR-CALDESC:Veranstaltungen für taunus4family
BEGIN:VTIMEZONE
TZID:Europe/Helsinki
BEGIN:DAYLIGHT
TZOFFSETFROM:+0200
TZOFFSETTO:+0300
TZNAME:EEST
DTSTART:20250330T010000
END:DAYLIGHT
BEGIN:STANDARD
TZOFFSETFROM:+0300
TZOFFSETTO:+0200
TZNAME:EET
DTSTART:20251026T010000
END:STANDARD
END:VTIMEZONE
BEGIN:VEVENT
DTSTART;TZID=Europe/Helsinki:20250426T140000
DTEND;TZID=Europe/Helsinki:20250426T160000
DTSTAMP:20260422T025804
CREATED:20250305T173225Z
LAST-MODIFIED:20250305T173225Z
UID:50429-1745676000-1745683200@www.taunus4family.de
SUMMARY:Vorsortierter Flohmarkt der Kita Pusteblume Kronberg
DESCRIPTION:Sortierter Kinderkleider-Flohmarkt für Schwangerschaftsmode\, Babybedarf\, Kinderkleidung von ganz klein bis groß (Größen 50 – 140)\, Spielsachen\, Alles was Räder hat\, Schuhe\, Medien und vieles mehr \nEinlass ab 13:00 Uhr für Schwangere und Eltern von Babys bis 6 Monate. \nKuchenbar mit selbstgebackenem Kuchen zum Mitnehmen. \nAnmeldung und Nummernvergabe für Verkäufer*innen über www.basarlino.de/PF79. \nFacebook-Link: https://facebook.com/events/s/sortierter-flohmarkt-der-kita-/1368821924545826/
URL:https://www.taunus4family.de/veranstaltung/vorsortierter-flohmarkt-der-kita-pusteblume-kronberg-2/
LOCATION:Stadthalle Kronberg im Taunus\, Berliner Platz\, Heinrich-Winter-Straße 1\, Kronberg im Taunus\, 61476
CATEGORIES:Basare und Flohmärkte
ATTACH;FMTTYPE=image/jpeg:https://www.taunus4family.de/wp-content/uploads/2025/03/FoeV_Flyer-A4_Flohmarkt_26_04-2025.jpeg
ORGANIZER;CN="F%C3%B6rderverein%20der%20Kita%20Pusteblume":MAILTO:pusteblume-flohmarkt@gmx.de
GEO:50.17831;8.51145
X-APPLE-STRUCTURED-LOCATION;VALUE=URI;X-ADDRESS=Stadthalle Kronberg im Taunus Berliner Platz Heinrich-Winter-Straße 1 Kronberg im Taunus 61476;X-APPLE-RADIUS=500;X-TITLE=Berliner Platz\, Heinrich-Winter-Straße 1:geo:8.51145,50.17831
END:VEVENT
END:VCALENDAR