BEGIN:VCALENDAR
VERSION:2.0
PRODID:-//taunus4family - ECPv5.14.1//NONSGML v1.0//EN
CALSCALE:GREGORIAN
METHOD:PUBLISH
X-WR-CALNAME:taunus4family
X-ORIGINAL-URL:https://www.taunus4family.de
X-WR-CALDESC:Veranstaltungen für taunus4family
BEGIN:VTIMEZONE
TZID:Europe/Helsinki
BEGIN:DAYLIGHT
TZOFFSETFROM:+0200
TZOFFSETTO:+0300
TZNAME:EEST
DTSTART:20250330T010000
END:DAYLIGHT
BEGIN:STANDARD
TZOFFSETFROM:+0300
TZOFFSETTO:+0200
TZNAME:EET
DTSTART:20251026T010000
END:STANDARD
END:VTIMEZONE
BEGIN:VEVENT
DTSTART;TZID=Europe/Helsinki:20251019T100000
DTEND;TZID=Europe/Helsinki:20251019T180000
DTSTAMP:20260420T081706
CREATED:20250106T180039Z
LAST-MODIFIED:20250106T180127Z
UID:49905-1760868000-1760896800@www.taunus4family.de
SUMMARY:Wehrheimer Drachenfest 2025
DESCRIPTION:Herbstzeit ist nicht nur für Kerzen\, Tee\, Herbstlaub und Kastanien sammeln da\, sondern auch perfekt\, um bei einer kräftigen Brise Drachen in den Himmel steigen zu lassen! \nAuf dem Bügel in Wehrheim erstrahlt der Herbsthimmel in buntem Glanz\, während dutzende Drachen im Wind tanzen. Und dieses Jahr gibt es noch eine zusätzliche Attraktion – Luftballons\, die ebenfalls in die Lüfte aufsteigen werden. \nZum Saisonende veranstaltet die Fliegergruppe zusammen mit dem Wehrheimer DRK noch das Drachenfest auf dem Bügel. Die Besucher dürfen sich zudem auf eine faszinierende Modellflieger-Ausstellung freuen. Außerdem besteht die Möglichkeit\, einen Krankenwagen zu besichtigen und den Blutdruck messen zu lassen. Das Rote Kreuz informiert außerdem über Erste-Hilfe-Maßnahmen. \nUm den Hunger zu stillen\, wartet ein verlockendes Kuchenbuffet\, köstlicher Kaffee\, Würstchen aus dem Topf und erfrischende Getränke auf die Gäste. Dieses Event verspricht einen Tag voller Spaß\, Unterhaltung und leckerer Genüsse für Jung und Alt. \nAlso los\, auf zum Drachensteigen für jedermann! \n 
URL:https://www.taunus4family.de/veranstaltung/wehrheimer-drachenfest-2025/
LOCATION:Wehrheimer Hausberg „Bügel“\, Köpperner Straße\, Wehrheim\, 61273\, Deutschland
CATEGORIES:Feste und Märkte
ATTACH;FMTTYPE=image/jpeg:https://www.taunus4family.de/wp-content/uploads/2023/07/Drachenfest-Pinosub.jpg
ORGANIZER;CN="Fliegergruppe%20Hochtaunus%20e.V.":MAILTO:info@fliegergruppe-hochtaunus.de
GEO:50.2880258;8.5806579
X-APPLE-STRUCTURED-LOCATION;VALUE=URI;X-ADDRESS=Wehrheimer Hausberg „Bügel“ Köpperner Straße Wehrheim 61273 Deutschland;X-APPLE-RADIUS=500;X-TITLE=Köpperner Straße:geo:8.5806579,50.2880258
END:VEVENT
END:VCALENDAR