BEGIN:VCALENDAR
VERSION:2.0
PRODID:-//taunus4family - ECPv5.14.1//NONSGML v1.0//EN
CALSCALE:GREGORIAN
METHOD:PUBLISH
X-WR-CALNAME:taunus4family
X-ORIGINAL-URL:https://www.taunus4family.de
X-WR-CALDESC:Veranstaltungen für taunus4family
BEGIN:VTIMEZONE
TZID:Europe/Helsinki
BEGIN:DAYLIGHT
TZOFFSETFROM:+0200
TZOFFSETTO:+0300
TZNAME:EEST
DTSTART:20240331T010000
END:DAYLIGHT
BEGIN:STANDARD
TZOFFSETFROM:+0300
TZOFFSETTO:+0200
TZNAME:EET
DTSTART:20241027T010000
END:STANDARD
BEGIN:DAYLIGHT
TZOFFSETFROM:+0200
TZOFFSETTO:+0300
TZNAME:EEST
DTSTART:20250330T010000
END:DAYLIGHT
BEGIN:STANDARD
TZOFFSETFROM:+0300
TZOFFSETTO:+0200
TZNAME:EET
DTSTART:20251026T010000
END:STANDARD
END:VTIMEZONE
BEGIN:VEVENT
DTSTART;VALUE=DATE:20241224
DTEND;VALUE=DATE:20250106
DTSTAMP:20260424T053932
CREATED:20241211T192226Z
LAST-MODIFIED:20241212T061643Z
UID:49802-1734998400-1736121599@www.taunus4family.de
SUMMARY:Weihnachtstheater "Der Grüffelo"
DESCRIPTION:Der Grüffelo kommt live auf die Bühne – ein großes Theatererlebnis für die ganze Familie!\nDie berühmte Kinderbuchfigur aus dem beliebten Werk von Axel Scheffler und Julia Donaldson wird lebendig! Die Geschichte des Grüffelo begeistert seit Jahren Millionen Kinder weltweit. Mit über 6\,5 Millionen verkauften Büchern in verschiedenen Sprachen hat sie ihren Platz in den Herzen kleiner und großer Leser gefunden. \nEin besonderes Highlight für Kinder ist es\, ihre Lieblingsfiguren live im Theater zu erleben – genauso wie die Großen! Fischer’s Figurentheater bringt in diesem Jahr die weltbekannte Geschichte um den Grüffelo auf die Bühne und lässt die Fantasie zum Leben erwachen. \nDas traditionsreiche Figurentheater der Familie Fischer wird bereits in der dritten Generation geführt. Mit viel Leidenschaft und jahrelanger Ausbildung zum Puppenspieler meistern sie den Umgang mit Hand- und Stockpuppen sowie die Kunst des gesprochenen Wortes. Ein einzigartiges Merkmal der Aufführung ist\, dass alle Texte und Dialoge live von den professionellen Puppenspielern gesprochen werden. Dadurch können sie flexibel auf die Reaktionen der kleinen Zuschauer eingehen und diese interaktiv ins Stück einbinden. \nIn der Geschichte hat es die kleine Maus im Wald nicht leicht. Jeder Waldbewohner will sie fressen. Doch dank ihres Einfallsreichtums erzählt sie von einem mächtigen Freund\, der groß\, stark und schrecklich furchteinflößend ist – der Grüffelo. Allein sein Name sorgt dafür\, dass die Tiere das Weite suchen. \nFreuen Sie sich auf ein bezauberndes Weihnachtstheater und erleben Sie den Grüffelo in einer liebevoll inszenierten Aufführung\, die Kinderherzen höherschlagen lässt. Vorhang auf für ein unvergessliches Erlebnis! \n  \nVorstellungen täglich um 16:30 Uhr\nHeiligabend 15:00 Uhr\nNeujahr = Ruhetag \nEintrittspreis pro Person 12€ \nTicket-Hotline: 0157 311 514 34 \n  \nNavi: Marxstraße \n  \nBei taunus4family gibt es Freikarten zu gewinnen! Einfach eine Mail an uns!!
URL:https://www.taunus4family.de/veranstaltung/weihnachtstheater-der-grueffelo/
LOCATION:Rolls-Royce-Wiese\, Willy-Seck-Straße\, Oberursel\, 6144\, Deutschland
CATEGORIES:Theater und Bühnen
ATTACH;FMTTYPE=image/jpeg:https://www.taunus4family.de/wp-content/uploads/2024/12/PR2-002-scaled-e1733984192270.jpg
END:VEVENT
END:VCALENDAR