BEGIN:VCALENDAR
VERSION:2.0
PRODID:-//taunus4family - ECPv5.14.1//NONSGML v1.0//EN
CALSCALE:GREGORIAN
METHOD:PUBLISH
X-WR-CALNAME:taunus4family
X-ORIGINAL-URL:https://www.taunus4family.de
X-WR-CALDESC:Veranstaltungen für taunus4family
BEGIN:VTIMEZONE
TZID:Europe/Helsinki
BEGIN:DAYLIGHT
TZOFFSETFROM:+0200
TZOFFSETTO:+0300
TZNAME:EEST
DTSTART:20240331T010000
END:DAYLIGHT
BEGIN:STANDARD
TZOFFSETFROM:+0300
TZOFFSETTO:+0200
TZNAME:EET
DTSTART:20241027T010000
END:STANDARD
END:VTIMEZONE
BEGIN:VEVENT
DTSTART;TZID=Europe/Helsinki:20240817T180000
DTEND;TZID=Europe/Helsinki:20240818T210000
DTSTAMP:20260424T141640
CREATED:20240731T162006Z
LAST-MODIFIED:20240731T162006Z
UID:48843-1723917600-1724014800@www.taunus4family.de
SUMMARY:Wilhelmsdorfer Dorftreff
DESCRIPTION:Der Vereinsring Wilhelmsdorf 2005 e.V. freut sich auf die letzte große Feier im Sommer! Eine frischgebackene Pizza mit einem Aperol oder einem Limencello Spritz unter der Sonne Wilhelmsdorfs – da fühlt man sich fast wie in Bella Italia. DJ Kalli wird am Samstag das Zelt zum Beben bringen! Für die Kleinen steht an beiden Tagen eine Hüpfburg bereit\, am Sonntag wird es ein kleines Kinderprogramm geben. Der Sonntag startet um 10h00 mit dem Gottesdienst\, um 12h00 spielt der Musikverein Wernborn auf. Ab 15h00 kann das Kuchenbuffet geplündert werden. \nAlle Details auch nochmal auf dem Flyer. Wir freuen uns auf ein tolles Wochenende mit euch!
URL:https://www.taunus4family.de/veranstaltung/wilhelmsdorfer-dorftreff/
LOCATION:Feuerwehrgerätehaus Usingen-Wilhelmsdorf\, Wilhelm-Heinrich-Straße 12\, Usingen-Wilhelmsdorf\, 61250
CATEGORIES:Feste und Märkte
ATTACH;FMTTYPE=image/jpeg:https://www.taunus4family.de/wp-content/uploads/2024/07/Dorftreff-Flyer-scaled.jpg
ORGANIZER;CN="Vereinsring%20Wilhelmsdorf%202005%20e.V.":MAILTO:vereinsringwilhelmsdorf2005@gmail.com
GEO:50.3492008;8.4799894
X-APPLE-STRUCTURED-LOCATION;VALUE=URI;X-ADDRESS=Feuerwehrgerätehaus Usingen-Wilhelmsdorf Wilhelm-Heinrich-Straße 12 Usingen-Wilhelmsdorf 61250;X-APPLE-RADIUS=500;X-TITLE=Wilhelm-Heinrich-Straße 12:geo:8.4799894,50.3492008
END:VEVENT
END:VCALENDAR